BEGIN:VCALENDAR
VERSION:2.0
PRODID:-//Yoga Consciousness Trust - ECPv4.9.2//NONSGML v1.0//EN
CALSCALE:GREGORIAN
METHOD:PUBLISH
X-WR-CALNAME:Yoga Consciousness Trust
X-ORIGINAL-URL:https://www.yogaconsciousness.org
X-WR-CALDESC:Events for Yoga Consciousness Trust
BEGIN:VEVENT
DTSTART;TZID=Asia/Kolkata:20250705T000000
DTEND;TZID=Asia/Kolkata:20250714T000000
DTSTAMP:20260421T105014
CREATED:20250116T233350Z
LAST-MODIFIED:20250116T233350Z
UID:5770-1751673600-1752451200@www.yogaconsciousness.org
SUMMARY:Anustana Yoga Vedanta Course-I (Beginners camp).
DESCRIPTION:Anustana Yoga Vedanta Course-I (Beginners camp). \n
URL:https://www.yogaconsciousness.org/event/anustana-yoga-vedanta-course-i-beginners-camp-4/
LOCATION:Kanavaram\, Rajugari thota\, Rajanagaram Mandal\,\,\, Kanavaram Village\, Andhra Pradesh\, India
CATEGORIES:Kanavaram
END:VEVENT
END:VCALENDAR